BEGIN:VCALENDAR
VERSION:2.0
PRODID:-//wp-events-plugin.com//7.2.3.1//EN
TZID:Europe/Berlin
X-WR-TIMEZONE:Europe/Berlin
BEGIN:VEVENT
UID:348@smv-aktuell.de
DTSTART;TZID=Europe/Berlin:20221203T100000
DTEND;TZID=Europe/Berlin:20221204T180000
DTSTAMP:20221107T180244Z
URL:https://www.smv-aktuell.de/events/adventsausstellung-zum-weihnachtsmar
 kt/
SUMMARY:Adventsausstellung zum Weihnachtsmarkt
DESCRIPTION:
ATTACH;FMTTYPE=image/jpeg:https://www.smv-aktuell.de/wp-content/uploads/20
 22/11/MEC-Loessnitzgrund-Waggon.png
CATEGORIES:1 SMV (öffentliche Veranstaltung)
LOCATION:Alte Adlerbrauerei Coswig\, Ravensburger Platz 7\,  Coswig\, Sachs
 en\, 01640\, Deutschland
GEO:51.125738;13.579052
X-APPLE-STRUCTURED-LOCATION;VALUE=URI;X-ADDRESS=Ravensburger Platz 7\,  Cos
 wig\, Sachsen\, 01640\, Deutschland;X-APPLE-RADIUS=100;X-TITLE=Alte Adlerb
 rauerei Coswig:geo:51.125738,13.579052
END:VEVENT
BEGIN:VTIMEZONE
TZID:Europe/Berlin
X-LIC-LOCATION:Europe/Berlin
BEGIN:STANDARD
DTSTART:20221030T020000
TZOFFSETFROM:+0200
TZOFFSETTO:+0100
TZNAME:CET
END:STANDARD
END:VTIMEZONE
END:VCALENDAR