BEGIN:VCALENDAR
VERSION:2.0
PRODID:-//wp-events-plugin.com//7.2.3.1//EN
TZID:Europe/Berlin
X-WR-TIMEZONE:Europe/Berlin
BEGIN:VEVENT
UID:383@smv-aktuell.de
DTSTART;TZID=Europe/Berlin:20231006T100000
DTEND;TZID=Europe/Berlin:20231008T180000
DTSTAMP:20230103T084321Z
URL:https://www.smv-aktuell.de/events/9-lausitzmodellbau/
SUMMARY:9 LausitzModellbau
DESCRIPTION:
CATEGORIES:1 SMV (öffentliche Veranstaltung)
LOCATION:Niederlausitzhalle Senftenberg\, Schillerstr.\, 01968 Senftenberg\
 , Brandenburg\, 01968\, Deutschland
GEO:51.524433;13.983486
X-APPLE-STRUCTURED-LOCATION;VALUE=URI;X-ADDRESS=Schillerstr.\, 01968 Senfte
 nberg\, Brandenburg\, 01968\, Deutschland;X-APPLE-RADIUS=100;X-TITLE=Niede
 rlausitzhalle Senftenberg:geo:51.524433,13.983486
END:VEVENT
BEGIN:VTIMEZONE
TZID:Europe/Berlin
X-LIC-LOCATION:Europe/Berlin
BEGIN:DAYLIGHT
DTSTART:20230326T030000
TZOFFSETFROM:+0100
TZOFFSETTO:+0200
TZNAME:CEST
END:DAYLIGHT
END:VTIMEZONE
END:VCALENDAR