BEGIN:VCALENDAR
VERSION:2.0
PRODID:-//wp-events-plugin.com//7.2.3.1//EN
TZID:Europe/Berlin
X-WR-TIMEZONE:Europe/Berlin
BEGIN:VEVENT
UID:1392@smv-aktuell.de
DTSTART;TZID=Europe/Berlin:20251206T000000
DTEND;TZID=Europe/Berlin:20251214T000000
DTSTAMP:20251118T085039Z
URL:https://www.smv-aktuell.de/events/60-modellbahnausstellung/
SUMMARY:60. Modellbahnausstellung
DESCRIPTION:Gezeigt werden Modellbahnanlagen in den Spurgrößen Z\, N\, TT
 \, H0 /m/e\n\ndarunter:\n\n- Sachsen H0/e in der Ep.2\n\n- Winteranlage H0
 /m in der Ep.3\n\n- H0-Gesamtanlage über 25m\, in U-Form mit H0m\n\n- TT-
 Modulanlage des MTTB\n\n&nbsp\;\n\nÖffnungszeiten Sa-So: 10-18Uhr\; Mo-Fr
 : 13-18Uhr\n\nAm ersten Ausstellungswochenende findet die Merseburger Schl
 ossweihnacht und am zweiten Ausstellungswochenende der Merseburger Advents
 zauber in der Innenstadt statt.
ATTACH;FMTTYPE=image/jpeg:https://www.smv-aktuell.de/wp-content/uploads/20
 25/11/0001.jpg
CATEGORIES:4 Externe Veranstalter
LOCATION:ehem. Rossmannfiliale im Stadtzentrum\, Gotthardtstraße\, gegenü
 ber Müller-Kaufhaus\, Merseburg\, Sachsen-Anhalt\, 06217\, Deutschland
GEO:51.354918;11.996895
X-APPLE-STRUCTURED-LOCATION;VALUE=URI;X-ADDRESS=Gotthardtstraße\, gegenüb
 er Müller-Kaufhaus\, Merseburg\, Sachsen-Anhalt\, 06217\, Deutschland;X-A
 PPLE-RADIUS=100;X-TITLE=ehem. Rossmannfiliale im Stadtzentrum:geo:51.35491
 8,11.996895
END:VEVENT
BEGIN:VTIMEZONE
TZID:Europe/Berlin
X-LIC-LOCATION:Europe/Berlin
BEGIN:STANDARD
DTSTART:20251026T020000
TZOFFSETFROM:+0200
TZOFFSETTO:+0100
TZNAME:CET
END:STANDARD
END:VTIMEZONE
END:VCALENDAR