BEGIN:VCALENDAR
VERSION:2.0
PRODID:-//wp-events-plugin.com//7.2.3.1//EN
TZID:Europe/Berlin
X-WR-TIMEZONE:Europe/Berlin
BEGIN:VEVENT
UID:480@smv-aktuell.de
DTSTART;TZID=Europe/Berlin:20231028T100000
DTEND;TZID=Europe/Berlin:20231029T170000
DTSTAMP:20230825T171358Z
URL:https://www.smv-aktuell.de/events/4-internationales-friesentreffen-der
 -modellbahner/
SUMMARY:4. Internationales Friesentreffen-Der Modellbahner
DESCRIPTION:Am Samstag\, 28. und Sonntag\,29. Oktober 2023 jeweils in der Z
 eit von 10:00 bis 17:00 Uhr findet in der Sporthalle Heppens (Zedeliusstra
 ße) in Wilhelmshaven eine große internationale Ausstellung für Modellei
 senbahnen statt. Die Aussteller kommen aus Drachten und Leeuwarden (Nieder
 lande)\, Niedersachsen und Schleswig-Holstein.\n\nUnter der Schirmherrscha
 ft von Herrn Olaf Lies (Wirtschaftsminister Niedersachsen) und Herrn Carst
 en Feist (Oberbürgermeister Wilhelmshaven) präsentiert diese Modelleisen
 bahnausstellung den Besuchern eine breite Palette von Modellbahnanlagen in
  verschiedenen Spurweiten\, in unterschiedlichen Epochen und Themen sowie 
 eine Vielzahl von beeindruckenden Modellen und Zuggarnituren. Hinzukommen 
 weitere Überraschungen und ein Modellbahn- Flohmarkt.
ATTACH;FMTTYPE=image/jpeg:https://www.smv-aktuell.de/wp-content/uploads/20
 23/08/4-Internationale-Friesentreffen-neu.png
CATEGORIES:2 BDEF (öffentliche Veranstaltung)
LOCATION:Sporthalle Heppens\, Zedeliusstrasse 3\, 26384 Wilhelmshaven\, Zed
 eliusstrasse 3\, Wilhelmshaven\, Niedersachsen\, 26384\, Deutschland
GEO:53.52891;8.130792
X-APPLE-STRUCTURED-LOCATION;VALUE=URI;X-ADDRESS=Zedeliusstrasse 3\, Wilhelm
 shaven\, Niedersachsen\, 26384\, Deutschland;X-APPLE-RADIUS=100;X-TITLE=Sp
 orthalle Heppens\, Zedeliusstrasse 3\, 26384 Wilhelmshaven:geo:53.52891,8.
 130792
END:VEVENT
BEGIN:VTIMEZONE
TZID:Europe/Berlin
X-LIC-LOCATION:Europe/Berlin
BEGIN:DAYLIGHT
DTSTART:20230326T030000
TZOFFSETFROM:+0100
TZOFFSETTO:+0200
TZNAME:CEST
END:DAYLIGHT
BEGIN:STANDARD
DTSTART:20231029T020000
TZOFFSETFROM:+0200
TZOFFSETTO:+0100
TZNAME:CET
END:STANDARD
END:VTIMEZONE
END:VCALENDAR