BEGIN:VCALENDAR
VERSION:2.0
PRODID:-//wp-events-plugin.com//7.2.3.1//EN
TZID:Europe/Berlin
X-WR-TIMEZONE:Europe/Berlin
BEGIN:VEVENT
UID:1249@smv-aktuell.de
DTSTART;TZID=Europe/Berlin:20251108T120000
DTEND;TZID=Europe/Berlin:20251109T170000
DTSTAMP:20250623T151647Z
URL:https://www.smv-aktuell.de/events/37-griesheimer-modellbahntage/
SUMMARY:37.Griesheimer Modellbahntage
DESCRIPTION:Wir zeigen verschiedene Anlagen in diversen Spurweiten ein BW u
 nd mehere (neue)Gastanlagen.Für junge Besucher\n\ngibt es wieder unsere S
 pielecke.Der Eintritt :Erwachsene 4 Euro/ Kinder (6-14 Jahre) 1 Euro /Fami
 lien 8 Euro.\n\nEreichbar ist Bürgerhaus mit S1 und S2 direkt an der S-Ba
 hnstation Ffm-Griesheim\,Tiefgarage im Haus
CATEGORIES:2 BDEF (öffentliche Veranstaltung)
LOCATION:Saalbau Frankfurt-Griesheim\, Schwarzerlenweg direkt S-Bahn-Statio
 n FFm Griesheim\, Frankfurt\, Hessen\, 65933\, Deutschland
GEO:50.095238;8.610704
X-APPLE-STRUCTURED-LOCATION;VALUE=URI;X-ADDRESS=Schwarzerlenweg direkt S-Ba
 hn-Station FFm Griesheim\, Frankfurt\, Hessen\, 65933\, Deutschland;X-APPL
 E-RADIUS=100;X-TITLE=Saalbau Frankfurt-Griesheim:geo:50.095238,8.610704
END:VEVENT
BEGIN:VTIMEZONE
TZID:Europe/Berlin
X-LIC-LOCATION:Europe/Berlin
BEGIN:STANDARD
DTSTART:20251026T020000
TZOFFSETFROM:+0200
TZOFFSETTO:+0100
TZNAME:CET
END:STANDARD
END:VTIMEZONE
END:VCALENDAR