BEGIN:VCALENDAR
VERSION:2.0
PRODID:-//wp-events-plugin.com//7.2.3.1//EN
TZID:Europe/Berlin
X-WR-TIMEZONE:Europe/Berlin
BEGIN:VEVENT
UID:1233@smv-aktuell.de
DTSTART;TZID=Europe/Berlin:20250601T100000
DTEND;TZID=Europe/Berlin:20250601T180000
DTSTAMP:20250506T154732Z
URL:https://www.smv-aktuell.de/events/3-xxl-fahrtag-des-mec-erkrath-e-v/
SUMMARY:3. XXL-Fahrtag des MEC Erkrath e.V.
DESCRIPTION:“XXL-Fahrtag” Thema mit allen Modellbahn-Themen im AC/DC (3
 -Leiter Wechselstrom &amp\; Gleichstrom 2-Leiter)-Analog oder Digital-Betr
 ieb”\nfreies Thema (mit Einbindung von Gast-Zügen möglich!) \nmit Schw
 erpunkt Epoche 3/3a – 2-/3-Leiter Gleichstrom/Wechselstrom (Trix/Fleisch
 mann/Liliput/Roco/Märklin (c) etc.) Spurweite H0 (1:87) digital/analog\n\
 nUnser 3. XXL-Fahrsonntag 2025 findet am 01.06.2025 von 10:00 Uhr – 18:0
 0 Uhr statt. \n\nEintritt: EUR 2\,50 pro Person (für unsere kleinen Gäst
 e bis zum 10. Lebensjahr kostenfrei!)- für das leibliche Wohl ist gesorgt
 !
CATEGORIES:2 BDEF (öffentliche Veranstaltung)
LOCATION:Vereinsheim MEC Erkrath\, Löhdorfer Straße 38\, Solingen\, Nordr
 hein-Westfalen\, 40699\, Bergisches Land\, Deutschland
GEO:51.158581;7.03105
X-APPLE-STRUCTURED-LOCATION;VALUE=URI;X-ADDRESS=Löhdorfer Straße 38\, Sol
 ingen\, Nordrhein-Westfalen\, 40699\, Bergisches Land\, Deutschland;X-APPL
 E-RADIUS=100;X-TITLE=Vereinsheim MEC Erkrath:geo:51.158581,7.03105
END:VEVENT
BEGIN:VTIMEZONE
TZID:Europe/Berlin
X-LIC-LOCATION:Europe/Berlin
BEGIN:DAYLIGHT
DTSTART:20250330T030000
TZOFFSETFROM:+0100
TZOFFSETTO:+0200
TZNAME:CEST
END:DAYLIGHT
END:VTIMEZONE
END:VCALENDAR