BEGIN:VCALENDAR
VERSION:2.0
PRODID:-//wp-events-plugin.com//7.2.3.1//EN
TZID:Europe/Berlin
X-WR-TIMEZONE:Europe/Berlin
BEGIN:VEVENT
UID:1295@smv-aktuell.de
DTSTART;TZID=Europe/Berlin:20251102T100000
DTEND;TZID=Europe/Berlin:20251102T170000
DTSTAMP:20250926T161621Z
URL:https://www.smv-aktuell.de/events/24-eisenbahntag-in-kerpen/
SUMMARY:24. Eisenbahntag in Kerpen
DESCRIPTION:24. Eisenbahntag in Kerpen\n\nAm 02. November 2025 findet unser
  24. Eisenbahntag in Kerpen\, in der Europaschule Gymnasium / Mensa\n50171
  Kerpen\, Philipp-Schneider-Str. 12\, mit einer Modelleisenbahnausstellung
  und Börse von 10 Uhr bis 17 Uhr statt.\n\n5\,- Euro Eintritt\, Kinder un
 ter 14 Jahre frei. \n\nAusgestellt werden neben unserer H0-Anlage auch wei
 tere Modellbahnanlagen von befreundeten Modelleisenbahnclubs. &nbsp\;
ATTACH;FMTTYPE=image/jpeg:https://www.smv-aktuell.de/wp-content/uploads/20
 25/09/MGK-Logo_V_2.jpg
CATEGORIES:2 BDEF (öffentliche Veranstaltung)
LOCATION:Europagymnasium Kerpen\, Philipp-Schneider-Str. 12\, Kerpen\, 5017
 1\, Deutschland
GEO:50.87948;6.689638
X-APPLE-STRUCTURED-LOCATION;VALUE=URI;X-ADDRESS=Philipp-Schneider-Str. 12\,
  Kerpen\, 50171\, Deutschland;X-APPLE-RADIUS=100;X-TITLE=Europagymnasium K
 erpen:geo:50.87948,6.689638
END:VEVENT
BEGIN:VTIMEZONE
TZID:Europe/Berlin
X-LIC-LOCATION:Europe/Berlin
BEGIN:STANDARD
DTSTART:20251026T020000
TZOFFSETFROM:+0200
TZOFFSETTO:+0100
TZNAME:CET
END:STANDARD
END:VTIMEZONE
END:VCALENDAR