BEGIN:VCALENDAR
VERSION:2.0
PRODID:-//wp-events-plugin.com//7.2.3.1//EN
TZID:Europe/Berlin
X-WR-TIMEZONE:Europe/Berlin
BEGIN:VEVENT
UID:1229@smv-aktuell.de
DTSTART;TZID=Europe/Berlin:20250620T100000
DTEND;TZID=Europe/Berlin:20250622T180000
DTSTAMP:20250331T145541Z
URL:https://www.smv-aktuell.de/events/21-grossbahntreffen/
SUMMARY:21. Großbahntreffen
DESCRIPTION:Vom 20. bis 22. Juni 2025 verwandelt sich Schkeuditz in ein Par
 adies für alle Freunde der großen Spurweiten! Gigantische Lokomotiven\, 
 detailreiche Waggons und atemberaubende Landschaften erwarten euch. Hier d
 onnern schwere Züge über die Gleise\, drehen imposante Dampfrösser ihre
  Runden und lassen Kinderaugen ebenso leuchten wie die der erwachsenen Eis
 enbahnfans.\nOb faszinierende Modellbahnanlagen\, spannende Fachgespräche
  oder einfach das pure Staunen – dieses Event solltet ihr nicht verpasse
 n!\nKommt vorbei und erlebt die Faszination der großen Spuren hautnah!
ATTACH;FMTTYPE=image/jpeg:https://www.smv-aktuell.de/wp-content/uploads/20
 25/03/Herzlich-Willkommen-zum-21.-Grossbahntreffen-Schkeuditz-2025-Vorders
 eite.png
CATEGORIES:1 SMV (öffentliche Veranstaltung)
LOCATION:Historisches Straßenbahndepot Schkeuditz\, Rathausplatz 9\, Schke
 uditz\, Deutschland\, 04435\, Sachsen\, Deutschland
GEO:51.396042;12.217985
X-APPLE-STRUCTURED-LOCATION;VALUE=URI;X-ADDRESS=Rathausplatz 9\, Schkeuditz
 \, Deutschland\, 04435\, Sachsen\, Deutschland;X-APPLE-RADIUS=100;X-TITLE=
 Historisches Straßenbahndepot Schkeuditz:geo:51.396042,12.217985
END:VEVENT
BEGIN:VTIMEZONE
TZID:Europe/Berlin
X-LIC-LOCATION:Europe/Berlin
BEGIN:DAYLIGHT
DTSTART:20250330T030000
TZOFFSETFROM:+0100
TZOFFSETTO:+0200
TZNAME:CEST
END:DAYLIGHT
END:VTIMEZONE
END:VCALENDAR