BEGIN:VCALENDAR
VERSION:2.0
PRODID:-//wp-events-plugin.com//7.2.3.1//EN
TZID:Europe/Berlin
X-WR-TIMEZONE:Europe/Berlin
BEGIN:VEVENT
UID:1301@smv-aktuell.de
DTSTART;TZID=Europe/Berlin:20251031T100000
DTEND;TZID=Europe/Berlin:20251102T180000
DTSTAMP:20250929T061729Z
URL:https://www.smv-aktuell.de/events/20-modelleisenbahnausstellung-des-me
 c-altenburger-land/
SUMMARY:20.Modelleisenbahnausstellung des MEC Altenburger Land
DESCRIPTION:Von 31.10. bis zum 02.11.2025 findet die 20. Modellbahnausstell
 ung des MEC Altenburger Land im Saal der Sparkasse Altenburger Land Filial
 e Schmölln statt.\nEs werden wieder verschiedene Club und Heimanlagen in 
 verschiedenen Nenngrößen zu sehen sein.\nDie Ausstellungszeiten sind am 
 31.10. von 10:00 bis 18:00 Uhr\nam 01.11. von 10:00 bis 18:00 Uhr\nam 02.1
 1. von 10:00 bis 16:00 Uhr\n\nDer MEC Altenburger Land freut sich auf Ihre
 n Besuch.
ATTACH;FMTTYPE=image/jpeg:https://www.smv-aktuell.de/wp-content/uploads/20
 25/09/2025_11-MEC-Ausstellung.jpg
CATEGORIES:1 SMV (öffentliche Veranstaltung)
LOCATION:Saal der Sparkasse in der Filiale Schmölln\, Amtsplatz 3\, Schmö
 lln\, Thüringen\, 04626\, Deutschland
GEO:50.894642;12.350409
X-APPLE-STRUCTURED-LOCATION;VALUE=URI;X-ADDRESS=Amtsplatz 3\, Schmölln\, T
 hüringen\, 04626\, Deutschland;X-APPLE-RADIUS=100;X-TITLE=Saal der Sparka
 sse in der Filiale Schmölln:geo:50.894642,12.350409
END:VEVENT
BEGIN:VTIMEZONE
TZID:Europe/Berlin
X-LIC-LOCATION:Europe/Berlin
BEGIN:STANDARD
DTSTART:20251026T020000
TZOFFSETFROM:+0200
TZOFFSETTO:+0100
TZNAME:CET
END:STANDARD
END:VTIMEZONE
END:VCALENDAR