BEGIN:VCALENDAR
VERSION:2.0
PRODID:-//wp-events-plugin.com//7.2.3.1//EN
TZID:Europe/Berlin
X-WR-TIMEZONE:Europe/Berlin
BEGIN:VEVENT
UID:893@smv-aktuell.de
DTSTART;TZID=Europe/Berlin:20240907T100000
DTEND;TZID=Europe/Berlin:20240908T173000
DTSTAMP:20240820T181139Z
URL:https://www.smv-aktuell.de/events/2-leunaer-modellbahntage/
SUMMARY:2.Leunaer Modellbahntage
DESCRIPTION:Präsentation und Verkauf von rollendem Material und Zubehörar
 tikeln durch ca. 70 Modellbahnhersteller\, Händlern. Modellbahnclubs und 
 Vereinen aus Deutschland und weiteren 7 Ländern. Zusätzlich am 07.09.202
 4 Tag der offenen Tür am Chemiestandort Leuna mit Standort-Rund- und Ziel
 fahrten sowie Lokausstellung im Bereich der Anschlussbahn im Werkteil II.
ATTACH;FMTTYPE=image/jpeg:https://www.smv-aktuell.de/wp-content/uploads/20
 24/08/Bild-2.jpg
CATEGORIES:1 SMV (öffentliche Veranstaltung)
LOCATION:Kulturhaus Leuna\, Spergauer Straße 41A\, Leuna\, Sachsen-Anhalt\
 , 06237\, Deutschland
GEO:51.322646;12.016352
X-APPLE-STRUCTURED-LOCATION;VALUE=URI;X-ADDRESS=Spergauer Straße 41A\, Leu
 na\, Sachsen-Anhalt\, 06237\, Deutschland;X-APPLE-RADIUS=100;X-TITLE=Kultu
 rhaus Leuna:geo:51.322646,12.016352
END:VEVENT
BEGIN:VTIMEZONE
TZID:Europe/Berlin
X-LIC-LOCATION:Europe/Berlin
BEGIN:DAYLIGHT
DTSTART:20240331T030000
TZOFFSETFROM:+0100
TZOFFSETTO:+0200
TZNAME:CEST
END:DAYLIGHT
END:VTIMEZONE
END:VCALENDAR