BEGIN:VCALENDAR
VERSION:2.0
PRODID:-//wp-events-plugin.com//7.2.3.1//EN
TZID:Europe/Berlin
X-WR-TIMEZONE:Europe/Berlin
BEGIN:VEVENT
UID:385@smv-aktuell.de
DTSTART;TZID=Europe/Berlin:20230218T100000
DTEND;TZID=Europe/Berlin:20230219T180000
DTSTAMP:20230105T080611Z
URL:https://www.smv-aktuell.de/events/15-doebelner-modellbahntage/
SUMMARY:15. Döbelner Modellbahntage
DESCRIPTION:Freizeitangebot des Döbelner SV "Vorwärts" e.V.\n\nEndlich is
 t es wieder soweit\, in den Februarferien veranstalten wir nach langer Pau
 se die 15. Döbelner Modellbahntage.\n\nNeben Modelleisenbahn- und Modulan
 lagen in verschiedenen Spurweiten von Vereinen und Privatausstellern sind 
 auch wieder Modell-Trucks\, die ihre Fahrkünste unter Beweis stellen\, zu
  sehen. Auch die LEGO Fans können auf einer aktiven Anlage Modelleisenbah
 n genießen.\n\nModellbahnenthusiasten werden bei dem ein oder anderen Hä
 ndler um Neu- und Gebrauchtware das ein oder andere finden können.\n\nFü
 r das leibliche Wohl ist natürlich auch gesorgt. Man kann so beim Essen a
 uf unserer Empore den Blick über unsere Aussteller schweifen lassen.\n\n&
 nbsp\;
CATEGORIES:4 Externe Veranstalter
LOCATION:Sporthalle Burgstraße Döbeln\, Burgstraße 8\, Döbeln\, Sachsen
 \, 04720\, Mittelsachsen\, Deutschland
GEO:51.121259;13.112813
X-APPLE-STRUCTURED-LOCATION;VALUE=URI;X-ADDRESS=Burgstraße 8\, Döbeln\, S
 achsen\, 04720\, Mittelsachsen\, Deutschland;X-APPLE-RADIUS=100;X-TITLE=Sp
 orthalle Burgstraße Döbeln:geo:51.121259,13.112813
END:VEVENT
BEGIN:VTIMEZONE
TZID:Europe/Berlin
X-LIC-LOCATION:Europe/Berlin
BEGIN:STANDARD
DTSTART:20221030T020000
TZOFFSETFROM:+0200
TZOFFSETTO:+0100
TZNAME:CET
END:STANDARD
END:VTIMEZONE
END:VCALENDAR