BEGIN:VCALENDAR
VERSION:2.0
PRODID:-//wp-events-plugin.com//7.2.3.1//EN
TZID:Europe/Berlin
X-WR-TIMEZONE:Europe/Berlin
BEGIN:VEVENT
UID:1279@smv-aktuell.de
DTSTART;TZID=Europe/Berlin:20251011T100000
DTEND;TZID=Europe/Berlin:20251012T170000
DTSTAMP:20250912T141357Z
URL:https://www.smv-aktuell.de/events/10-loebauer-modellbahnhoftage/
SUMMARY:10. Löbauer Modellbahnhoftage
DESCRIPTION:Im ehemaligen Güterboden des Bahnhofes Löbau wartet eine beei
 ndruckende\nSammlung einzigartiger Modellbahnanlagen der Spurweiten TT bis
  G auf Sie.\n\n&nbsp\;
ATTACH;FMTTYPE=image/jpeg:https://www.smv-aktuell.de/wp-content/uploads/20
 25/09/2025-10-11_12_MBT1.gif
CATEGORIES:4 Externe Veranstalter
LOCATION:Modellbahnhof Löbau\, Modellbahnhof\, Elisenstraße\, Löbau\, Sa
 chsen\, 02708\, Oberlausitz\, Deutschland
GEO:51.100802;14.66906
X-APPLE-STRUCTURED-LOCATION;VALUE=URI;X-ADDRESS=Modellbahnhof\, Elisenstra
 ße\, Löbau\, Sachsen\, 02708\, Oberlausitz\, Deutschland;X-APPLE-RADIUS=
 100;X-TITLE=Modellbahnhof Löbau:geo:51.100802,14.66906
END:VEVENT
BEGIN:VTIMEZONE
TZID:Europe/Berlin
X-LIC-LOCATION:Europe/Berlin
BEGIN:DAYLIGHT
DTSTART:20250330T030000
TZOFFSETFROM:+0100
TZOFFSETTO:+0200
TZNAME:CEST
END:DAYLIGHT
END:VTIMEZONE
END:VCALENDAR