BEGIN:VCALENDAR
VERSION:2.0
PRODID:-//wp-events-plugin.com//7.2.3.1//EN
TZID:Europe/Berlin
X-WR-TIMEZONE:Europe/Berlin
BEGIN:VEVENT
UID:1167@smv-aktuell.de
DTSTART;TZID=Europe/Berlin:20251107T100000
DTEND;TZID=Europe/Berlin:20251109T180000
DTSTAMP:20241126T072943Z
URL:https://www.smv-aktuell.de/events/10-lausitzmodellbau/
SUMMARY:10. LausitzModellbau
DESCRIPTION:Jubiläum 20 Jahre LausitzModellbau\n\ngrößte Modellbau- und 
 Modelleisenbahnausstellung in Brandenburg\n\n3000 m² Ausstellungsfläche\
 n\nFreitag ab 14 Uhr
ATTACH;FMTTYPE=image/jpeg:https://www.smv-aktuell.de/wp-content/uploads/20
 24/11/Flyer-2025-vorn-kompr.jpg
CATEGORIES:1 SMV (öffentliche Veranstaltung)
LOCATION:Niederlausitzhalle Senftenberg\, Schillerstr.\, 01968 Senftenberg\
 , Brandenburg\, 01968\, Deutschland
GEO:51.524433;13.983486
X-APPLE-STRUCTURED-LOCATION;VALUE=URI;X-ADDRESS=Schillerstr.\, 01968 Senfte
 nberg\, Brandenburg\, 01968\, Deutschland;X-APPLE-RADIUS=100;X-TITLE=Niede
 rlausitzhalle Senftenberg:geo:51.524433,13.983486
END:VEVENT
BEGIN:VTIMEZONE
TZID:Europe/Berlin
X-LIC-LOCATION:Europe/Berlin
BEGIN:STANDARD
DTSTART:20251026T020000
TZOFFSETFROM:+0200
TZOFFSETTO:+0100
TZNAME:CET
END:STANDARD
END:VTIMEZONE
END:VCALENDAR